BEGIN:VCALENDAR
VERSION:2.0
PRODID:-//CultureLink - ECPv6.15.20//NONSGML v1.0//EN
CALSCALE:GREGORIAN
METHOD:PUBLISH
X-ORIGINAL-URL:https://www.culturelink.ca
X-WR-CALDESC:Events for CultureLink
REFRESH-INTERVAL;VALUE=DURATION:PT1H
X-Robots-Tag:noindex
X-PUBLISHED-TTL:PT1H
BEGIN:VTIMEZONE
TZID:America/Toronto
BEGIN:DAYLIGHT
TZOFFSETFROM:-0500
TZOFFSETTO:-0400
TZNAME:EDT
DTSTART:20250309T070000
END:DAYLIGHT
BEGIN:STANDARD
TZOFFSETFROM:-0400
TZOFFSETTO:-0500
TZNAME:EST
DTSTART:20251102T060000
END:STANDARD
BEGIN:DAYLIGHT
TZOFFSETFROM:-0500
TZOFFSETTO:-0400
TZNAME:EDT
DTSTART:20260308T070000
END:DAYLIGHT
BEGIN:STANDARD
TZOFFSETFROM:-0400
TZOFFSETTO:-0500
TZNAME:EST
DTSTART:20261101T060000
END:STANDARD
BEGIN:DAYLIGHT
TZOFFSETFROM:-0500
TZOFFSETTO:-0400
TZNAME:EDT
DTSTART:20270314T070000
END:DAYLIGHT
BEGIN:STANDARD
TZOFFSETFROM:-0400
TZOFFSETTO:-0500
TZNAME:EST
DTSTART:20271107T060000
END:STANDARD
END:VTIMEZONE
BEGIN:VEVENT
DTSTART;TZID=America/Toronto:20260316T100000
DTEND;TZID=America/Toronto:20260316T130000
DTSTAMP:20260422T095936
CREATED:20260304T201123Z
LAST-MODIFIED:20260316T022039Z
UID:10001829-1773655200-1773666000@www.culturelink.ca
SUMMARY:Transportation Job Fair
DESCRIPTION:This Transportation Career and Community Event is free for Newcomers. \nJob seekers will have the opportunity to connect directly with employers from transportation industry. \n\nMeet face-to-face with hiring employers\nGet a chance to receive an on-the-spot interview invitation\nLearn about current job openings across transportation sector and more\nNetwork with community partners and service providers\nGain valuable information to support your career journey\n\nConfirmed employers: \n\nToronto Fire Services\nShift Transit (Bike Share Toronto)\nLime Micromobility\nPointA\nToronto Paramedic Services\nLearning Enrichment Foundation\n\nAlso included: \n\nWorkshop: How to get Licensed for Transportation Jobs (11:00 – 12:00am)\nGet a professional photo for your LinkedIn profile.\nFree 2-hour childcare will be available.\n\nTo register\, fill in the form below.
URL:https://www.culturelink.ca/event/transportation-job-fair/
LOCATION:Parkdale Library\, 1303 Queen Street West\, Toronto\, Ontario\, Canada
CATEGORIES:Adults
END:VEVENT
BEGIN:VEVENT
DTSTART;TZID=America/Toronto:20260319T090000
DTEND;TZID=America/Toronto:20260319T180000
DTSTAMP:20260422T095936
CREATED:20260303T202402Z
LAST-MODIFIED:20260319T040447Z
UID:10001828-1773910800-1773943200@www.culturelink.ca
SUMMARY:March Break Camp
DESCRIPTION:For Newcomer kids and youth who are Permanent Residents or Convention Refugees! \nWe will have: \n\nFull Day Programs\nLeadership & Teamwork Activities\nArt Workshops\nPing Pong\, Foosball\nShevchenko Musuem Tour\nMovie Afternoons!\n\nFor Youth (age 13-19) \n\nVolunteering Opportunities\nHelp run group activities\nTake part in a youth-led project\nEarn up to 8 volunteer hours\nMovie Afternoon!\n\nPresto Tickets Provided \nFull Lunch & Snacks Provided! \nFor more information\, please contact agordiienko@culturelink.ca or call at 437-245-1118 \nTo register\, fill in the form below: \n﻿
URL:https://www.culturelink.ca/event/march-break-camp/
LOCATION:CultureLink Children & Youth Centre\, 3535 Dundas Street West\, Toronto\, Ontario\, Canada
CATEGORIES:Newcomer Youth Success,Youth
END:VEVENT
END:VCALENDAR