BEGIN:VCALENDAR
VERSION:2.0
PRODID:-//CultureLink - ECPv6.15.20//NONSGML v1.0//EN
CALSCALE:GREGORIAN
METHOD:PUBLISH
X-ORIGINAL-URL:https://www.culturelink.ca
X-WR-CALDESC:Events for CultureLink
REFRESH-INTERVAL;VALUE=DURATION:PT1H
X-Robots-Tag:noindex
X-PUBLISHED-TTL:PT1H
BEGIN:VTIMEZONE
TZID:America/Toronto
BEGIN:DAYLIGHT
TZOFFSETFROM:-0500
TZOFFSETTO:-0400
TZNAME:EDT
DTSTART:20250309T070000
END:DAYLIGHT
BEGIN:STANDARD
TZOFFSETFROM:-0400
TZOFFSETTO:-0500
TZNAME:EST
DTSTART:20251102T060000
END:STANDARD
BEGIN:DAYLIGHT
TZOFFSETFROM:-0500
TZOFFSETTO:-0400
TZNAME:EDT
DTSTART:20260308T070000
END:DAYLIGHT
BEGIN:STANDARD
TZOFFSETFROM:-0400
TZOFFSETTO:-0500
TZNAME:EST
DTSTART:20261101T060000
END:STANDARD
BEGIN:DAYLIGHT
TZOFFSETFROM:-0500
TZOFFSETTO:-0400
TZNAME:EDT
DTSTART:20270314T070000
END:DAYLIGHT
BEGIN:STANDARD
TZOFFSETFROM:-0400
TZOFFSETTO:-0500
TZNAME:EST
DTSTART:20271107T060000
END:STANDARD
END:VTIMEZONE
BEGIN:VEVENT
DTSTART;TZID=America/Toronto:20260514T191500
DTEND;TZID=America/Toronto:20260514T201500
DTSTAMP:20260423T115446
CREATED:20260422T155856Z
LAST-MODIFIED:20260422T201417Z
UID:10001911-1778786100-1778789700@www.culturelink.ca
SUMMARY:Make Your Mark: Volunteer\, Learn\, Grow
DESCRIPTION:Discover how volunteering can open doors to new opportunities and help you build valuable skills for your future. This session will guide you through the benefits of giving back while gaining meaningful experience. \nIn this session participants will: \n\nUnderstand the importance and impact of volunteering in the community\nLearn how to find and apply for volunteer opportunities\nExplore how volunteering can strengthen resumes and support employment goals\nGain tips on how building skills\, confidence and professional networks\n\nTake the first step toward growth- make your mark through volunteering! \nFor Newcomers (Permanent Residents & Convention Refugees). \nFor more information contact Shane at saquino@culutrelink.ca or (416) 931-6536. \nTo register please fill out this Registration Form. \n﻿﻿  \n  \nFunded by Immigration\, Refugees and Citizenship Canada.
URL:https://www.culturelink.ca/event/make-your-mark-volunteer-learn-grow/
LOCATION:Eatonville Library\, 430 Burnhamthorpe Road\, Etobicoke\, Ontario\, Canada
CATEGORIES:Adults
ATTACH;FMTTYPE=image/jpeg:https://www.culturelink.ca/wp-content/uploads/2023/08/Adults-Settlement-CultureLink-Icon.jpg
END:VEVENT
END:VCALENDAR