BEGIN:VCALENDAR
VERSION:2.0
PRODID:-//CultureLink - ECPv6.15.20//NONSGML v1.0//EN
CALSCALE:GREGORIAN
METHOD:PUBLISH
X-ORIGINAL-URL:https://www.culturelink.ca
X-WR-CALDESC:Events for CultureLink
REFRESH-INTERVAL;VALUE=DURATION:PT1H
X-Robots-Tag:noindex
X-PUBLISHED-TTL:PT1H
BEGIN:VTIMEZONE
TZID:America/Toronto
BEGIN:DAYLIGHT
TZOFFSETFROM:-0500
TZOFFSETTO:-0400
TZNAME:EDT
DTSTART:20250309T070000
END:DAYLIGHT
BEGIN:STANDARD
TZOFFSETFROM:-0400
TZOFFSETTO:-0500
TZNAME:EST
DTSTART:20251102T060000
END:STANDARD
BEGIN:DAYLIGHT
TZOFFSETFROM:-0500
TZOFFSETTO:-0400
TZNAME:EDT
DTSTART:20260308T070000
END:DAYLIGHT
BEGIN:STANDARD
TZOFFSETFROM:-0400
TZOFFSETTO:-0500
TZNAME:EST
DTSTART:20261101T060000
END:STANDARD
BEGIN:DAYLIGHT
TZOFFSETFROM:-0500
TZOFFSETTO:-0400
TZNAME:EDT
DTSTART:20270314T070000
END:DAYLIGHT
BEGIN:STANDARD
TZOFFSETFROM:-0400
TZOFFSETTO:-0500
TZNAME:EST
DTSTART:20271107T060000
END:STANDARD
END:VTIMEZONE
BEGIN:VEVENT
DTSTART;TZID=America/Toronto:20260428T153000
DTEND;TZID=America/Toronto:20260428T163000
DTSTAMP:20260423T055807
CREATED:20260409T194548Z
LAST-MODIFIED:20260415T052722Z
UID:10001908-1777390200-1777393800@www.culturelink.ca
SUMMARY:University Choices and Career Planning
DESCRIPTION:Your Future Starts Here! \nJoin this free session to prepare for University Enrollment! \n\nChoose the right program for you\nLink studies to career\nPlan your future\nMake smart decisions\nHow to apply\n\nFor Youth between 15-29 years of age who are Permanent Residents or Convention Refugees \nTo register\, fill out the Registration Form: \n﻿  \nThis event is funded by Immigration\, Refugees and Citizenship Canada \n 
URL:https://www.culturelink.ca/event/university-choices-and-career-planning/
LOCATION:Online
CATEGORIES:Youth
ATTACH;FMTTYPE=image/jpeg:https://www.culturelink.ca/wp-content/uploads/2023/08/Youth-Employment-CultureLink-Icon.jpg
END:VEVENT
BEGIN:VEVENT
DTSTART;TZID=America/Toronto:20260430T100000
DTEND;TZID=America/Toronto:20260430T123000
DTSTAMP:20260423T055807
CREATED:20260422T211146Z
LAST-MODIFIED:20260422T211146Z
UID:10001914-1777543200-1777552200@www.culturelink.ca
SUMMARY:Work & Study Permit Applications
DESCRIPTION:Learn how to apply for and renew Work and Study Permits online. This session covers creating an IRCC account\, completing applications\, preparing documents and avoiding common mistakes. \nPrimarily for refugee claimants and Convention Refugees\, but open to all. \nTo register\, Please email Ivana at itvrdonova@culturelink.ca. \nFunded by the Ontario Ministry of Labour\, immigration\, Training and Skills Development.
URL:https://www.culturelink.ca/event/work-study-permit-applications/
LOCATION:Online
CATEGORIES:Adults,Newcomer Settlement Program
ATTACH;FMTTYPE=image/jpeg:https://www.culturelink.ca/wp-content/uploads/2023/08/Adults-Settlement-CultureLink-Icon.jpg
END:VEVENT
BEGIN:VEVENT
DTSTART;TZID=America/Toronto:20260430T191500
DTEND;TZID=America/Toronto:20260430T201500
DTSTAMP:20260423T055807
CREATED:20260420T150656Z
LAST-MODIFIED:20260420T150656Z
UID:10001909-1777576500-1777580100@www.culturelink.ca
SUMMARY:Smile & Save: Dental Benefits and Programs
DESCRIPTION:Join our Smile & Save: Dental Benefits and Programs (Online & In-Person) session to learn about affordable dental care options available to you. This informative workshop will help you better understand available supports and how to access them. \nThrough this session\, participants will: \n\nExplore available dental programs and services.\nUnderstand eligibility requirements for each program.\nLearn how to apply and complete the registration process.\nGain access to resources for affordable dental care.\n\nThis event is for Permanent Residents or Convention Refugees. \nFor more information contact Shane at SAquino@culutrelink.ca or (416) 931-6536. \nTo register\, fill out the Registration Form. \n﻿  \nThis event is funded by Immigration\, Refugees and Citizenship Canada.
URL:https://www.culturelink.ca/event/smile-save-dental-benefits-and-programs/
LOCATION:Eatonville Library\, 430 Burnhamthorpe Road\, Etobicoke\, Ontario\, Canada
CATEGORIES:Adults,Families
ATTACH;FMTTYPE=image/jpeg:https://www.culturelink.ca/wp-content/uploads/2023/08/Adults-Settlement-CultureLink-Icon.jpg
END:VEVENT
BEGIN:VEVENT
DTSTART;TZID=America/Toronto:20260514T191500
DTEND;TZID=America/Toronto:20260514T201500
DTSTAMP:20260423T055807
CREATED:20260422T155856Z
LAST-MODIFIED:20260422T201417Z
UID:10001911-1778786100-1778789700@www.culturelink.ca
SUMMARY:Make Your Mark: Volunteer\, Learn\, Grow
DESCRIPTION:Discover how volunteering can open doors to new opportunities and help you build valuable skills for your future. This session will guide you through the benefits of giving back while gaining meaningful experience. \nIn this session participants will: \n\nUnderstand the importance and impact of volunteering in the community\nLearn how to find and apply for volunteer opportunities\nExplore how volunteering can strengthen resumes and support employment goals\nGain tips on how building skills\, confidence and professional networks\n\nTake the first step toward growth- make your mark through volunteering! \nFor Newcomers (Permanent Residents & Convention Refugees). \nFor more information contact Shane at saquino@culutrelink.ca or (416) 931-6536. \nTo register please fill out this Registration Form. \n﻿﻿  \n  \nFunded by Immigration\, Refugees and Citizenship Canada.
URL:https://www.culturelink.ca/event/make-your-mark-volunteer-learn-grow/
LOCATION:Eatonville Library\, 430 Burnhamthorpe Road\, Etobicoke\, Ontario\, Canada
CATEGORIES:Adults
ATTACH;FMTTYPE=image/jpeg:https://www.culturelink.ca/wp-content/uploads/2023/08/Adults-Settlement-CultureLink-Icon.jpg
END:VEVENT
END:VCALENDAR